BEGIN:VCALENDAR
VERSION:2.0
PRODID:icalendar-ruby
CALSCALE:GREGORIAN
METHOD:PUBLISH
BEGIN:VEVENT
DTSTAMP:20260426T032815Z
UID:15-398828@libertyunited.tithelysetup5.com
DTSTART:20261007T010000Z
DTEND:20261007T020000Z
CLASS:PUBLIC
CREATED:20260425T190046
DESCRIPTION:Youth\, ages 13-17\, are invited to participate in the Zoom cla
 ssroom provided parents have signed the video class permission slip and ob
 tained the link from the classroom monitor.
LAST-MODIFIED:20260425T190046
LOCATION:Zoom Classroom
SUMMARY:Liberty Youth Zoom
URL;VALUE=URI:https://libertyunited.tithelysetup5.com/events/liberty-youth-
 zoom/2026-10-06
END:VEVENT
END:VCALENDAR
