BEGIN:VCALENDAR
VERSION:2.0
PRODID:icalendar-ruby
CALSCALE:GREGORIAN
METHOD:PUBLISH
BEGIN:VEVENT
DTSTAMP:20260425T155109Z
UID:20-397787@libertyunited.tithelysetup5.com
DTSTART:20260813T230000Z
DTEND:20260814T000000Z
CLASS:PUBLIC
CREATED:20260425T081504
DESCRIPTION:Come for the companionship\, beginners welcome. You don't have 
 to be a church member to join in the fun! Want to learn more about Hand &a
 mp\; Foot\, visit the website from Bicycle brand cards: https://bicyclecar
 ds.com/how-to-play/hand-and-foot (copy and paste the link in your browser
 ).\n \n 
LAST-MODIFIED:20260425T081504
LOCATION:Liberty UMC\, Buckeye AZ\, Memorial Hall
SUMMARY:Hand & Foot (Canasta)
URL;VALUE=URI:https://libertyunited.tithelysetup5.com/events/hand-foot-cana
 sta/2026-08-13
ATTACH;FILENAME=Photo_Cards_Image.png;FMTTYPE=image/png:https://dq5pwpg1q8r
 u0.cloudfront.net/2026/01/28/16/26/50/297b99f9-e7ab-4f34-822b-179190a109cc
 /Photo_Cards_Image.png
END:VEVENT
END:VCALENDAR
