BEGIN:VCALENDAR
VERSION:2.0
PRODID:icalendar-ruby
CALSCALE:GREGORIAN
METHOD:PUBLISH
BEGIN:VEVENT
DTSTAMP:20260426T011638Z
UID:18-398580@libertyunited.tithelysetup5.com
DTSTART:20260924T010000Z
DTEND:20260924T020000Z
CLASS:PUBLIC
CREATED:20260425T161938
DESCRIPTION:
LAST-MODIFIED:20260425T161938
LOCATION:Liberty UMC\, Buckeye AZ
SUMMARY:Choir Practice
URL;VALUE=URI:https://libertyunited.tithelysetup5.com/events/choir-practice
 /2026-09-23
ATTACH;FILENAME=Photo_Choir_SheetMusic.png;FMTTYPE=image/png:https://dq5pwp
 g1q8ru0.cloudfront.net/2026/01/28/16/16/56/5e336483-52bd-44f5-8054-d0d78be
 4102f/Photo_Choir_SheetMusic.png
END:VEVENT
END:VCALENDAR
